BEGIN:VCALENDAR
VERSION:2.0
PRODID:-//Regina Fish &amp; Game League - ECPv6.0.1//NONSGML v1.0//EN
CALSCALE:GREGORIAN
METHOD:PUBLISH
X-ORIGINAL-URL:https://rfgl.net
X-WR-CALDESC:Events for Regina Fish &amp; Game League
REFRESH-INTERVAL;VALUE=DURATION:PT1H
X-Robots-Tag:noindex
X-PUBLISHED-TTL:PT1H
BEGIN:VTIMEZONE
TZID:America/Regina
BEGIN:STANDARD
TZOFFSETFROM:-0600
TZOFFSETTO:-0600
TZNAME:CST
DTSTART:20230101T000000
END:STANDARD
END:VTIMEZONE
BEGIN:VEVENT
DTSTART;TZID=America/Regina:20231104T100000
DTEND;TZID=America/Regina:20231104T150000
DTSTAMP:20260421T053806
CREATED:20231020T223101Z
LAST-MODIFIED:20231020T223101Z
UID:8468-1699092000-1699110000@rfgl.net
SUMMARY:Pumpkin Disposal Event
DESCRIPTION:This will be our second annual Pumpkin Disposal Event (PDE)!  This event is open for members to bring out guests!  There will be waivers for the guests to sign.  Guests MUST attend with a member in current good standing.   This event will be held in the special events bay ONLY.  Please follow the signs to the special events bay. \nFor this event\, Members and Guests bring out their jack-o-lanterns and/or their uncarved pumpkins and are welcome to shoot them to their hearts content.  Both non-restricted and restricted firearms will be allowed for this event. \nGuests will need to pay a $5.00 fee to shoot.  Members are free to shoot but are asked to make a donation.  All funds raised will be donated to the Regina Humane Society.  Hot Chocolate and pumpkins will be available on site for purchase\, while supplies last!
URL:https://rfgl.net/event/pumpkin-disposal-event/
ATTACH;FMTTYPE=image/jpeg:https://rfgl.net/wp-content/uploads/2023/10/pumpkin.jpg
END:VEVENT
END:VCALENDAR